BEGIN:VCALENDAR
VERSION:2.0
PRODID:-//Bay Cliff Health Camp - ECPv6.15.20//NONSGML v1.0//EN
CALSCALE:GREGORIAN
METHOD:PUBLISH
X-ORIGINAL-URL:https://baycliff.org
X-WR-CALDESC:Events for Bay Cliff Health Camp
REFRESH-INTERVAL;VALUE=DURATION:PT1H
X-Robots-Tag:noindex
X-PUBLISHED-TTL:PT1H
BEGIN:VTIMEZONE
TZID:America/Detroit
BEGIN:DAYLIGHT
TZOFFSETFROM:-0500
TZOFFSETTO:-0400
TZNAME:EDT
DTSTART:20250309T070000
END:DAYLIGHT
BEGIN:STANDARD
TZOFFSETFROM:-0400
TZOFFSETTO:-0500
TZNAME:EST
DTSTART:20251102T060000
END:STANDARD
BEGIN:DAYLIGHT
TZOFFSETFROM:-0500
TZOFFSETTO:-0400
TZNAME:EDT
DTSTART:20260308T070000
END:DAYLIGHT
BEGIN:STANDARD
TZOFFSETFROM:-0400
TZOFFSETTO:-0500
TZNAME:EST
DTSTART:20261101T060000
END:STANDARD
BEGIN:DAYLIGHT
TZOFFSETFROM:-0500
TZOFFSETTO:-0400
TZNAME:EDT
DTSTART:20270314T070000
END:DAYLIGHT
BEGIN:STANDARD
TZOFFSETFROM:-0400
TZOFFSETTO:-0500
TZNAME:EST
DTSTART:20271107T060000
END:STANDARD
END:VTIMEZONE
BEGIN:VEVENT
DTSTART;VALUE=DATE:20260501
DTEND;VALUE=DATE:20260504
DTSTAMP:20260421T073055
CREATED:20251121T151856Z
LAST-MODIFIED:20251121T155125Z
UID:2990-1777593600-1777852799@baycliff.org
SUMMARY:Camp T (Hosted Program)
DESCRIPTION:
URL:https://baycliff.org/programs-calendar/camp-t/
LOCATION:Bay Cliff Health Camp\, N4175 Baycliff Dr\, Big Bay\, MI\, MI\, 49808\, United States
CATEGORIES:Other Events
END:VEVENT
BEGIN:VEVENT
DTSTART;VALUE=DATE:20260513
DTEND;VALUE=DATE:20260516
DTSTAMP:20260421T073055
CREATED:20250411T181326Z
LAST-MODIFIED:20251121T152055Z
UID:2111-1778630400-1778889599@baycliff.org
SUMMARY:MAPS 5th Grade (Hosted Program)
DESCRIPTION:
URL:https://baycliff.org/programs-calendar/maps-5th-grade/
LOCATION:Bay Cliff Health Camp\, N4175 Baycliff Dr\, Big Bay\, MI\, MI\, 49808\, United States
CATEGORIES:Other Events
ORGANIZER;CN="Bay Cliff Health Camp":MAILTO:baycliff@baycliff.org
END:VEVENT
BEGIN:VEVENT
DTSTART;VALUE=DATE:20260518
DTEND;VALUE=DATE:20260523
DTSTAMP:20260421T073055
CREATED:20250411T181207Z
LAST-MODIFIED:20251121T161739Z
UID:2109-1779062400-1779494399@baycliff.org
SUMMARY:MAPS 7th Grade (Hosted Program)
DESCRIPTION:
URL:https://baycliff.org/programs-calendar/maps-7th-grade/
LOCATION:Bay Cliff Health Camp\, N4175 Baycliff Dr\, Big Bay\, MI\, MI\, 49808\, United States
CATEGORIES:Other Events
END:VEVENT
BEGIN:VEVENT
DTSTART;VALUE=DATE:20260526
DTEND;VALUE=DATE:20260528
DTSTAMP:20260421T073055
CREATED:20250416T124416Z
LAST-MODIFIED:20251121T152244Z
UID:2414-1779753600-1779926399@baycliff.org
SUMMARY:Aspen Ridge 5th Grade (Hosted Program)
DESCRIPTION:
URL:https://baycliff.org/programs-calendar/aspen-ridge/
LOCATION:Bay Cliff Health Camp\, N4175 Baycliff Dr\, Big Bay\, MI\, MI\, 49808\, United States
CATEGORIES:Other Events
ORGANIZER;CN="Bay Cliff Health Camp":MAILTO:baycliff@baycliff.org
END:VEVENT
END:VCALENDAR